BEGIN:VCALENDAR
VERSION:2.0
PRODID:-//Hope Lives Youth Ranch | Monticello, IL - ECPv6.15.20//NONSGML v1.0//EN
CALSCALE:GREGORIAN
METHOD:PUBLISH
X-WR-CALNAME:Hope Lives Youth Ranch | Monticello, IL
X-ORIGINAL-URL:https://www.hopelivesyouthranch.org
X-WR-CALDESC:Events for Hope Lives Youth Ranch | Monticello, IL
REFRESH-INTERVAL;VALUE=DURATION:PT1H
X-Robots-Tag:noindex
X-PUBLISHED-TTL:PT1H
BEGIN:VTIMEZONE
TZID:America/New_York
BEGIN:DAYLIGHT
TZOFFSETFROM:-0500
TZOFFSETTO:-0400
TZNAME:EDT
DTSTART:20210314T070000
END:DAYLIGHT
BEGIN:STANDARD
TZOFFSETFROM:-0400
TZOFFSETTO:-0500
TZNAME:EST
DTSTART:20211107T060000
END:STANDARD
BEGIN:DAYLIGHT
TZOFFSETFROM:-0500
TZOFFSETTO:-0400
TZNAME:EDT
DTSTART:20220313T070000
END:DAYLIGHT
BEGIN:STANDARD
TZOFFSETFROM:-0400
TZOFFSETTO:-0500
TZNAME:EST
DTSTART:20221106T060000
END:STANDARD
BEGIN:DAYLIGHT
TZOFFSETFROM:-0500
TZOFFSETTO:-0400
TZNAME:EDT
DTSTART:20230312T070000
END:DAYLIGHT
BEGIN:STANDARD
TZOFFSETFROM:-0400
TZOFFSETTO:-0500
TZNAME:EST
DTSTART:20231105T060000
END:STANDARD
BEGIN:DAYLIGHT
TZOFFSETFROM:-0500
TZOFFSETTO:-0400
TZNAME:EDT
DTSTART:20240310T070000
END:DAYLIGHT
BEGIN:STANDARD
TZOFFSETFROM:-0400
TZOFFSETTO:-0500
TZNAME:EST
DTSTART:20241103T060000
END:STANDARD
END:VTIMEZONE
BEGIN:VTIMEZONE
TZID:America/Chicago
BEGIN:DAYLIGHT
TZOFFSETFROM:-0600
TZOFFSETTO:-0500
TZNAME:CDT
DTSTART:20210314T080000
END:DAYLIGHT
BEGIN:STANDARD
TZOFFSETFROM:-0500
TZOFFSETTO:-0600
TZNAME:CST
DTSTART:20211107T070000
END:STANDARD
BEGIN:DAYLIGHT
TZOFFSETFROM:-0600
TZOFFSETTO:-0500
TZNAME:CDT
DTSTART:20220313T080000
END:DAYLIGHT
BEGIN:STANDARD
TZOFFSETFROM:-0500
TZOFFSETTO:-0600
TZNAME:CST
DTSTART:20221106T070000
END:STANDARD
BEGIN:DAYLIGHT
TZOFFSETFROM:-0600
TZOFFSETTO:-0500
TZNAME:CDT
DTSTART:20230312T080000
END:DAYLIGHT
BEGIN:STANDARD
TZOFFSETFROM:-0500
TZOFFSETTO:-0600
TZNAME:CST
DTSTART:20231105T070000
END:STANDARD
END:VTIMEZONE
BEGIN:VEVENT
DTSTART;TZID=America/New_York:20230715T130000
DTEND;TZID=America/New_York:20230715T170000
DTSTAMP:20260421T054702
CREATED:20230616T131451Z
LAST-MODIFIED:20230628T210955Z
UID:1829-1689426000-1689440400@www.hopelivesyouthranch.org
SUMMARY:Hope Lives Freedom Conference
DESCRIPTION:Register Here \n 
URL:https://www.hopelivesyouthranch.org/event/hope-lives-freedom-conference/
LOCATION:Hope Lives Youth Ranch\, 976 E 2250 North Rd\, Monticello\, IL\, 61856\, United States
END:VEVENT
BEGIN:VEVENT
DTSTART;TZID=America/Chicago:20220910T100000
DTEND;TZID=America/Chicago:20220910T130000
DTSTAMP:20260421T054702
CREATED:20220411T194130Z
LAST-MODIFIED:20220413T121350Z
UID:1612-1662804000-1662814800@www.hopelivesyouthranch.org
SUMMARY:Donkey Days | September 2022
DESCRIPTION:Free Snuggles! Meet our lovable donkeys\, Jack and Mabel at Nick’s park. They love children of all ages and will be visiting Nick’s park on the second Saturday of the month\, May-September.
URL:https://www.hopelivesyouthranch.org/event/donkey-days-september-2022/
LOCATION:Nick’s Park\, E Livingston St\, Monticello\, IL\, 61856\, United States
ATTACH;FMTTYPE=image/jpeg:https://www.hopelivesyouthranch.org/wp-content/uploads/2021/12/young-boy-feeding-donkey-ranch.jpg
END:VEVENT
BEGIN:VEVENT
DTSTART;TZID=America/Chicago:20220813T100000
DTEND;TZID=America/Chicago:20220813T130000
DTSTAMP:20260421T054702
CREATED:20220411T193911Z
LAST-MODIFIED:20220413T121608Z
UID:1610-1660384800-1660395600@www.hopelivesyouthranch.org
SUMMARY:Donkey Days | August 2022
DESCRIPTION:Free Snuggles! Meet our lovable donkeys\, Jack and Mabel at Nick’s park. They love children of all ages and will be visiting Nick’s park on the second Saturday of the month\, May-September.
URL:https://www.hopelivesyouthranch.org/event/donkey-days-august-2022/
LOCATION:Nick’s Park\, E Livingston St\, Monticello\, IL\, 61856\, United States
ATTACH;FMTTYPE=image/jpeg:https://www.hopelivesyouthranch.org/wp-content/uploads/2021/12/addison-donkey-cuddles-scaled.jpg
END:VEVENT
BEGIN:VEVENT
DTSTART;TZID=America/New_York:20220723T120000
DTEND;TZID=America/New_York:20220723T150000
DTSTAMP:20260421T054702
CREATED:20220613T200927Z
LAST-MODIFIED:20220622T141731Z
UID:1698-1658577600-1658588400@www.hopelivesyouthranch.org
SUMMARY:Fairy Tale Pony Rides | July 23\, 2022
DESCRIPTION:Fairy Tale Pony Rides are back at our Open House Fundraiser on July 23rd from 12:00 p.m. to 3:00 p.m! No registration is required this year. Bring the whole family for games\, a craft\, hay rack rides\, donkey snuggles\, and our famous dragon and unicorn rides! Admission is $10/child and covers all the activities at the ranch. Cash\, Paypal\, and Venmo will be accepted. \nPlease follow us on Facebook for event updates.
URL:https://www.hopelivesyouthranch.org/event/fairy-tale-pony-rides/
LOCATION:Hope Lives Youth Ranch\, 976 E 2250 North Rd\, Monticello\, IL\, 61856\, United States
ATTACH;FMTTYPE=image/jpeg:https://www.hopelivesyouthranch.org/wp-content/uploads/2022/06/guest19-scaled.jpg
END:VEVENT
BEGIN:VEVENT
DTSTART;TZID=America/Chicago:20220709T100000
DTEND;TZID=America/Chicago:20220709T130000
DTSTAMP:20260421T054702
CREATED:20220411T193533Z
LAST-MODIFIED:20220413T121725Z
UID:1608-1657360800-1657371600@www.hopelivesyouthranch.org
SUMMARY:Donkey Days | July 2022
DESCRIPTION:Free Snuggles! Meet our lovable donkeys\, Jack and Mabel at Nick’s park. They love children of all ages and will be visiting Nick’s park on the second Saturday of the month\, May-September.
URL:https://www.hopelivesyouthranch.org/event/donkey-days-july-2022/
LOCATION:Nick’s Park\, E Livingston St\, Monticello\, IL\, 61856\, United States
ATTACH;FMTTYPE=image/jpeg:https://www.hopelivesyouthranch.org/wp-content/uploads/2021/12/home-school-group-donkey-petting-scaled.jpg
END:VEVENT
BEGIN:VEVENT
DTSTART;TZID=America/Chicago:20220611T100000
DTEND;TZID=America/Chicago:20220611T130000
DTSTAMP:20260421T054702
CREATED:20220411T193045Z
LAST-MODIFIED:20220413T121750Z
UID:1606-1654941600-1654952400@www.hopelivesyouthranch.org
SUMMARY:Donkey Days | June 2022
DESCRIPTION:Free Snuggles! Meet our lovable donkeys\, Jack and Mabel at Nick’s park. They love children of all ages and will be visiting Nick’s park on the second Saturday of the month\, May-September.
URL:https://www.hopelivesyouthranch.org/event/donkey-days-june-2022/
LOCATION:Nick’s Park\, E Livingston St\, Monticello\, IL\, 61856\, United States
ATTACH;FMTTYPE=image/jpeg:https://www.hopelivesyouthranch.org/wp-content/uploads/2021/12/olsons-donkey-group-bonding-scaled.jpg
END:VEVENT
BEGIN:VEVENT
DTSTART;TZID=America/Chicago:20220514T100000
DTEND;TZID=America/Chicago:20220514T170000
DTSTAMP:20260421T054702
CREATED:20220411T192419Z
LAST-MODIFIED:20220413T121814Z
UID:1601-1652522400-1652547600@www.hopelivesyouthranch.org
SUMMARY:Donkey Days | May 2022
DESCRIPTION:Free Snuggles! Meet our lovable donkeys\, Jack and Mabel at Nick’s park. They love children of all ages and will be visiting Nick’s park on the second Saturday of the month\, May-September.
URL:https://www.hopelivesyouthranch.org/event/donkey-days-may-2022/
LOCATION:Nick’s Park\, E Livingston St\, Monticello\, IL\, 61856\, United States
ATTACH;FMTTYPE=image/jpeg:https://www.hopelivesyouthranch.org/wp-content/uploads/2021/12/donkeys-smile-young-girl-petting-scaled.jpg
END:VEVENT
BEGIN:VEVENT
DTSTART;TZID=America/Chicago:20220430T130000
DTEND;TZID=America/Chicago:20220430T150000
DTSTAMP:20260421T054702
CREATED:20220414T130627Z
LAST-MODIFIED:20220414T130627Z
UID:1660-1651323600-1651330800@www.hopelivesyouthranch.org
SUMMARY:Spring Cleaning 2022
DESCRIPTION:We will be spending some time polishing up the ranch for the season. There will be jobs for everyone from cleaning the road sign to fixing fences\, so bring the whole family!
URL:https://www.hopelivesyouthranch.org/event/spring-cleaning-2022/
LOCATION:Hope Lives Youth Ranch\, 976 E 2250 North Rd\, Monticello\, IL\, 61856\, United States
ATTACH;FMTTYPE=image/jpeg:https://www.hopelivesyouthranch.org/wp-content/uploads/2021/12/volunteer-work-hope-lives-sign-washing-scaled.jpg
END:VEVENT
BEGIN:VEVENT
DTSTART;TZID=America/Chicago:20220423T130000
DTEND;TZID=America/Chicago:20220423T143000
DTSTAMP:20260421T054702
CREATED:20220411T194407Z
LAST-MODIFIED:20220413T121851Z
UID:1614-1650718800-1650724200@www.hopelivesyouthranch.org
SUMMARY:Prayer Walk
DESCRIPTION:Please join us as we pray a blessing over our property\, arenas\, barns\, and horses.
URL:https://www.hopelivesyouthranch.org/event/prayer-walk/
LOCATION:Hope Lives Youth Ranch\, 976 E 2250 North Rd\, Monticello\, IL\, 61856\, United States
ATTACH;FMTTYPE=image/jpeg:https://www.hopelivesyouthranch.org/wp-content/uploads/2021/12/prayer-meeting-outdoors-red-barn-scaled.jpg
END:VEVENT
BEGIN:VEVENT
DTSTART;TZID=America/Chicago:20220423T083000
DTEND;TZID=America/Chicago:20220423T130000
DTSTAMP:20260421T054702
CREATED:20220411T184315Z
LAST-MODIFIED:20220413T122016Z
UID:1594-1650702600-1650718800@www.hopelivesyouthranch.org
SUMMARY:Session Leader Training
DESCRIPTION:This training is required if you are interested in helping us lead sessions this year\, but is also open to those who just want to know more about how our program works. It includes a handbook you can keep\, hands-on training with the horses\, and lunch.
URL:https://www.hopelivesyouthranch.org/event/session-leader-training/
LOCATION:Hope Lives Youth Ranch\, 976 E 2250 North Rd\, Monticello\, IL\, 61856\, United States
ATTACH;FMTTYPE=image/jpeg:https://www.hopelivesyouthranch.org/wp-content/uploads/2021/12/young-girl-black-horse-volutneer.jpg
END:VEVENT
END:VCALENDAR